BEGIN:VCALENDAR
CALSCALE:GREGORIAN
PRODID: SPIP https://www.spip.net
VERSION:2.0

X-WR-CALNAME;VALUE=TEXT:Berre l’Étang -- Agenda
X-WR-RELCALID:https://www.berreletang.fr



BEGIN:VEVENT
SUMMARY:Repas des séniors - Inscriptions 
UID:article738 @ https://www.berreletang.fr
DTSTAMP:20230505T130643Z
DTSTART;VALUE=DATE:20260518
DTEND;VALUE=DATE:20260523
CREATED:20230505T130643Z
LAST-MODIFIED:20260421T131003Z
LOCATION:Pôle Solidarités - CCAS
CATEGORIES:Agenda Berre l'Étang
URL:https://www.berreletang.eu/repas-des-seniors
STATUS:CONFIRMED
END:VEVENT
END:VCALENDAR