BEGIN:VCALENDAR
CALSCALE:GREGORIAN
PRODID: SPIP https://www.spip.net
VERSION:2.0

X-WR-CALNAME;VALUE=TEXT:Berre l’Étang -- Agenda
X-WR-RELCALID:https://www.berreletang.fr



BEGIN:VEVENT
SUMMARY:Berre fête le jeu et son Vieux Berre  
UID:article3697 @ https://www.berreletang.fr
DTSTAMP:20240418T085251Z
DTSTART:20260530T080000Z
DTEND:20260530T080000Z
CREATED:20240418T085251Z
LAST-MODIFIED:20260422T131748Z
LOCATION:En ville
CATEGORIES:Agenda Berre l'Étang
URL:https://www.berreletang.eu/fetedujeu
STATUS:CONFIRMED
END:VEVENT
END:VCALENDAR