BEGIN:VCALENDAR
CALSCALE:GREGORIAN
PRODID: SPIP https://www.spip.net
VERSION:2.0

X-WR-CALNAME;VALUE=TEXT:Berre l’Étang -- Agenda
X-WR-RELCALID:https://www.berreletang.fr



BEGIN:VEVENT
SUMMARY:Victoire du 8 mai 1945  
UID:article671 @ https://www.berreletang.fr
DTSTAMP:20160303T153144Z
DTSTART:20260508T083000Z
DTEND:20260508T083000Z
CREATED:20160303T153144Z
LAST-MODIFIED:20260421T121439Z
LOCATION:Cimetière Caderot
CATEGORIES:Agenda Berre l'Étang
URL:https://www.berreletang.eu/victoire-8mai45
STATUS:CONFIRMED
END:VEVENT
END:VCALENDAR