BEGIN:VCALENDAR
CALSCALE:GREGORIAN
PRODID: SPIP https://www.spip.net
VERSION:2.0

X-WR-CALNAME;VALUE=TEXT:Berre l’Étang -- Agenda
X-WR-RELCALID:https://www.berreletang.fr



BEGIN:VEVENT
SUMMARY:Le Bénin  - par l'association BAOBA
UID:article4139 @ https://www.berreletang.fr
DTSTAMP:20260421T115410Z
DTSTART:20260502T150000Z
DTEND:20260502T150000Z
CREATED:20260421T115410Z
LAST-MODIFIED:20260421T115415Z
LOCATION:Espace Léo Ferré
CATEGORIES:Agenda Berre l'Étang
URL:https://www.berreletang.eu/le-benin
STATUS:CONFIRMED
END:VEVENT
END:VCALENDAR