BEGIN:VCALENDAR
CALSCALE:GREGORIAN
PRODID: SPIP https://www.spip.net
VERSION:2.0

X-WR-CALNAME;VALUE=TEXT:Berre l’Étang -- Agenda
X-WR-RELCALID:https://www.berreletang.fr



BEGIN:VEVENT
SUMMARY:Exposition peintures - Vernissage 
UID:article4143 @ https://www.berreletang.fr
DTSTAMP:20260422T100524Z
DTSTART:20260529T160000Z
DTEND:20260529T160000Z
CREATED:20260422T100524Z
LAST-MODIFIED:20260422T100623Z
LOCATION:Espace Léo Ferré
CATEGORIES:Agenda Berre l'Étang
URL:https://www.berreletang.eu/exposition-peintures
STATUS:CONFIRMED
END:VEVENT
END:VCALENDAR