BEGIN:VCALENDAR
CALSCALE:GREGORIAN
PRODID: SPIP https://www.spip.net
VERSION:2.0

X-WR-CALNAME;VALUE=TEXT:Berre l’Étang -- Agenda
X-WR-RELCALID:https://www.berreletang.fr



BEGIN:VEVENT
SUMMARY:Sortie nature - Sortie naturaliste 
UID:article3943 @ https://www.berreletang.fr
DTSTAMP:20260422T123339Z
DTSTART;VALUE=DATE:20260530
DTEND;VALUE=DATE:20260531
CREATED:20260422T123339Z
LAST-MODIFIED:20260422T123406Z
LOCATION:En bord d'étang
CATEGORIES:Agenda Berre l'Étang
URL:https://www.berreletang.eu/sortie-nature
STATUS:CONFIRMED
END:VEVENT
END:VCALENDAR